BEGIN:VCALENDAR
VERSION:2.0
PRODID:-//Grapes in a Glass Wine Bar - Canton Ohio - ECPv4.9.14//NONSGML v1.0//EN
CALSCALE:GREGORIAN
METHOD:PUBLISH
X-WR-CALNAME:Grapes in a Glass Wine Bar - Canton Ohio
X-ORIGINAL-URL:https://50shadesofvine.com
X-WR-CALDESC:Events for Grapes in a Glass Wine Bar - Canton Ohio
BEGIN:VTIMEZONE
TZID:America/New_York
BEGIN:DAYLIGHT
TZOFFSETFROM:-0500
TZOFFSETTO:-0400
TZNAME:EDT
DTSTART:20210314T070000
END:DAYLIGHT
BEGIN:STANDARD
TZOFFSETFROM:-0400
TZOFFSETTO:-0500
TZNAME:EST
DTSTART:20211107T060000
END:STANDARD
END:VTIMEZONE
BEGIN:VEVENT
DTSTART;TZID=America/New_York:20210507T190000
DTEND;TZID=America/New_York:20210507T220000
DTSTAMP:20260421T094559
CREATED:20210426T232609Z
LAST-MODIFIED:20210426T232609Z
UID:1627-1620414000-1620424800@50shadesofvine.com
SUMMARY:Daniel Grey Live
DESCRIPTION:Live music followed by DJ Kyle till 1 am for “Dancing in the Streets” \n
URL:https://50shadesofvine.com/event/daniel-grey-live/
LOCATION:Grapes in a Glass\, 575 Market Ave N\, Canton\, OH\, 44702\, United States
END:VEVENT
END:VCALENDAR