BEGIN:VCALENDAR
VERSION:2.0
PRODID:-//Grapes in a Glass Wine Bar - Canton Ohio - ECPv4.9.14//NONSGML v1.0//EN
CALSCALE:GREGORIAN
METHOD:PUBLISH
X-WR-CALNAME:Grapes in a Glass Wine Bar - Canton Ohio
X-ORIGINAL-URL:https://50shadesofvine.com
X-WR-CALDESC:Events for Grapes in a Glass Wine Bar - Canton Ohio
BEGIN:VTIMEZONE
TZID:America/New_York
BEGIN:DAYLIGHT
TZOFFSETFROM:-0500
TZOFFSETTO:-0400
TZNAME:EDT
DTSTART:20210314T070000
END:DAYLIGHT
BEGIN:STANDARD
TZOFFSETFROM:-0400
TZOFFSETTO:-0500
TZNAME:EST
DTSTART:20211107T060000
END:STANDARD
END:VTIMEZONE
BEGIN:VEVENT
DTSTART;TZID=America/New_York:20210507T220000
DTEND;TZID=America/New_York:20210508T220000
DTSTAMP:20260421T111739
CREATED:20210426T232908Z
LAST-MODIFIED:20210426T232908Z
UID:1629-1620424800-1620511200@50shadesofvine.com
SUMMARY:DJ Kyle Dance Party for First Friday
DESCRIPTION:Join us as we celebrate “dancing in the street” with some dance music until 1 am \n
URL:https://50shadesofvine.com/event/dj-kyle-dance-party-for-first-friday/
END:VEVENT
END:VCALENDAR